BEGIN:VCALENDAR
VERSION:2.0
PRODID:-//Walnut, Illinois Public Library - ECPv6.15.20//NONSGML v1.0//EN
CALSCALE:GREGORIAN
METHOD:PUBLISH
X-WR-CALNAME:Walnut, Illinois Public Library
X-ORIGINAL-URL:https://www.walnutpubliclibrary.org
X-WR-CALDESC:Events for Walnut, Illinois Public Library
REFRESH-INTERVAL;VALUE=DURATION:PT1H
X-Robots-Tag:noindex
X-PUBLISHED-TTL:PT1H
BEGIN:VTIMEZONE
TZID:UTC
BEGIN:STANDARD
TZOFFSETFROM:+0000
TZOFFSETTO:+0000
TZNAME:UTC
DTSTART:20240101T000000
END:STANDARD
END:VTIMEZONE
BEGIN:VEVENT
DTSTART;TZID=UTC:20250805T130000
DTEND;TZID=UTC:20250805T140000
DTSTAMP:20260420T202206
CREATED:20250801T201702Z
LAST-MODIFIED:20250801T201702Z
UID:72535-1754398800-1754402400@www.walnutpubliclibrary.org
SUMMARY:Dementia Caregiver Support Group
DESCRIPTION:Register here! \nAlzheimer’s Association caregiver support groups\, conducted by trained facilitators\, are a safe place for caregivers\, family and friends of persons with dementia to: \n\nDevelop a support\nExchange practical information on caregiving challenges and possible solutions.\nTalk through issues and ways of coping.\nShare feelings\, needs and\nLearn about community resources\n\nVisit alz.org/Illinois to learn more about caregiver programs and resources.
URL:https://www.walnutpubliclibrary.org/event/dementia-caregiver-support-group-6/
LOCATION:Walnut Public Library\, 101 Heaton Street\, Walnut\, 61376\, United States
CATEGORIES:Event
ATTACH;FMTTYPE=image/png:https://www.walnutpubliclibrary.org/wp-content/uploads/2025/08/dementia-care-givers-2.png
END:VEVENT
BEGIN:VEVENT
DTSTART;TZID=UTC:20250724T190000
DTEND;TZID=UTC:20250724T200000
DTSTAMP:20260420T202206
CREATED:20250701T030237Z
LAST-MODIFIED:20250701T030237Z
UID:72484-1753383600-1753387200@www.walnutpubliclibrary.org
SUMMARY:Walnut Book Club
DESCRIPTION:Multiple copies available at the library! \nAudio and e-book also available on Boundless \nJuly 24\, 2025 7pm
URL:https://www.walnutpubliclibrary.org/event/walnut-book-club/
LOCATION:Walnut Public Library\, 101 Heaton Street\, Walnut\, 61376\, United States
CATEGORIES:Book Club
ATTACH;FMTTYPE=image/png:https://www.walnutpubliclibrary.org/wp-content/uploads/2025/07/july-book-club.png
END:VEVENT
BEGIN:VEVENT
DTSTART;TZID=UTC:20250716T143000
DTEND;TZID=UTC:20250716T153000
DTSTAMP:20260420T202206
CREATED:20250429T172631Z
LAST-MODIFIED:20250429T172631Z
UID:72367-1752676200-1752679800@www.walnutpubliclibrary.org
SUMMARY:Pete the Cat-Pre-K & Kindergarten Summer Session 5
DESCRIPTION:Let’s Keep Moving!\nI Love My White Shoes!\nMust register to attend!\nRegister here!
URL:https://www.walnutpubliclibrary.org/event/pete-the-cat-pre-k-kindergarten-summer-session-5/
LOCATION:Walnut Public Library\, 101 Heaton Street\, Walnut\, 61376\, United States
CATEGORIES:Child Program
ATTACH;FMTTYPE=image/jpeg:https://www.walnutpubliclibrary.org/wp-content/uploads/2025/04/summer.reading.programs.jpg
END:VEVENT
BEGIN:VEVENT
DTSTART;TZID=UTC:20250716T130000
DTEND;TZID=UTC:20250716T140000
DTSTAMP:20260420T202206
CREATED:20250429T174634Z
LAST-MODIFIED:20250429T174634Z
UID:72378-1752670800-1752674400@www.walnutpubliclibrary.org
SUMMARY:Grow-How We Get Food-1st-5th Grades Summer Session 5
DESCRIPTION:Gardening!\nFruit Salad!\nMust register to attend!\nRegister here!
URL:https://www.walnutpubliclibrary.org/event/grow-how-we-get-food-1st-5th-grades-summer-session-5/
LOCATION:Walnut Public Library\, 101 Heaton Street\, Walnut\, 61376\, United States
CATEGORIES:Child Program
ATTACH;FMTTYPE=image/jpeg:https://www.walnutpubliclibrary.org/wp-content/uploads/2025/04/summer.reading.programs.jpg
END:VEVENT
BEGIN:VEVENT
DTSTART;TZID=UTC:20250714T130000
DTEND;TZID=UTC:20250714T143000
DTSTAMP:20260420T202206
CREATED:20250429T180321Z
LAST-MODIFIED:20250429T193031Z
UID:72395-1752498000-1752503400@www.walnutpubliclibrary.org
SUMMARY:Shopping for Ingredients & Making Monster Cookies @ The Rock!-JH & HS Summer Session 5
DESCRIPTION:Meet at The Rock!\nMust Register to attend!\nRegister here!
URL:https://www.walnutpubliclibrary.org/event/shopping-for-ingredients-making-monster-cookies-the-rock-jh-hs-summer-program-session-5/
LOCATION:The Rock
CATEGORIES:High School Event,Junior High Event
ATTACH;FMTTYPE=image/jpeg:https://www.walnutpubliclibrary.org/wp-content/uploads/2025/04/summer.reading.programs.jpg
END:VEVENT
BEGIN:VEVENT
DTSTART;TZID=UTC:20250709T143000
DTEND;TZID=UTC:20250709T153000
DTSTAMP:20260420T202206
CREATED:20250429T172453Z
LAST-MODIFIED:20250429T172506Z
UID:72364-1752071400-1752075000@www.walnutpubliclibrary.org
SUMMARY:I Went Walking-Pre-K & Kindergarten Summer Session 4
DESCRIPTION:Let’s Keep Moving!\nNature Shape Walk!\nMust register to attend!\nRegister here!
URL:https://www.walnutpubliclibrary.org/event/i-went-walking-pre-k-kindergarten-summer-session-3/
LOCATION:Walnut Public Library\, 101 Heaton Street\, Walnut\, 61376\, United States
CATEGORIES:Child Program
ATTACH;FMTTYPE=image/jpeg:https://www.walnutpubliclibrary.org/wp-content/uploads/2025/04/summer.reading.programs.jpg
END:VEVENT
BEGIN:VEVENT
DTSTART;TZID=UTC:20250709T130000
DTEND;TZID=UTC:20250709T140000
DTSTAMP:20260420T202206
CREATED:20250429T174526Z
LAST-MODIFIED:20250429T174526Z
UID:72376-1752066000-1752069600@www.walnutpubliclibrary.org
SUMMARY:Plant a Rainbow-1st-5th Grades Summer Session 4
DESCRIPTION:Gardening!\nMini Art!\nMust register to attend!\nRegister here!
URL:https://www.walnutpubliclibrary.org/event/plant-a-rainbow-1st-5th-grades-summer-session-4/
LOCATION:Walnut Public Library\, 101 Heaton Street\, Walnut\, 61376\, United States
CATEGORIES:Child Program
ATTACH;FMTTYPE=image/jpeg:https://www.walnutpubliclibrary.org/wp-content/uploads/2025/04/summer.reading.programs.jpg
END:VEVENT
BEGIN:VEVENT
DTSTART;TZID=UTC:20250707T130000
DTEND;TZID=UTC:20250707T143000
DTSTAMP:20260420T202206
CREATED:20250429T180108Z
LAST-MODIFIED:20250429T193053Z
UID:72392-1751893200-1751898600@www.walnutpubliclibrary.org
SUMMARY:Creating Mini Art & Sharing your favorite Book @ The Library!-JH & HS Summer Session 4
DESCRIPTION:Meet at The Library!\nMust Register to attend!\nRegister here!
URL:https://www.walnutpubliclibrary.org/event/creating-mini-art-sharing-your-favorite-book-the-library-jh-hs-summer-program-session-3/
LOCATION:Walnut Public Library\, 101 Heaton Street\, Walnut\, 61376\, United States
CATEGORIES:High School Event,Junior High Event
ATTACH;FMTTYPE=image/jpeg:https://www.walnutpubliclibrary.org/wp-content/uploads/2025/04/summer.reading.programs.jpg
END:VEVENT
BEGIN:VEVENT
DTSTART;TZID=UTC:20250702T170000
DTEND;TZID=UTC:20250702T190000
DTSTAMP:20260420T202206
CREATED:20250429T170951Z
LAST-MODIFIED:20250429T170951Z
UID:72354-1751475600-1751482800@www.walnutpubliclibrary.org
SUMMARY:Children's Business Fair
DESCRIPTION:Walnut Public Library is excited to announce our 3′ annual Children’s Business Fair! This event is for all of those creative and hard-working kids looking to sell their creations\, treats and expand their service business. \nRegister here!
URL:https://www.walnutpubliclibrary.org/event/childrens-business-fair-2/
LOCATION:Walnut Liberty Square\, Walnut\, IL\, 61376\, United States
CATEGORIES:Child Program,Event
ATTACH;FMTTYPE=image/jpeg:https://www.walnutpubliclibrary.org/wp-content/uploads/2025/04/childrens.business.fair_.jpg
END:VEVENT
BEGIN:VEVENT
DTSTART;TZID=UTC:20250701T130000
DTEND;TZID=UTC:20250701T140000
DTSTAMP:20260420T202206
CREATED:20250701T031957Z
LAST-MODIFIED:20250701T031957Z
UID:72500-1751374800-1751378400@www.walnutpubliclibrary.org
SUMMARY:Dementia Caregiver Support Group
DESCRIPTION:Register here! \nAlzheimer’s Association caregiver support groups\, conducted by trained facilitators\, are a safe place for caregivers\, family and friends of persons with dementia to: \n\nDevelop a support\nExchange practical information on caregiving challenges and possible solutions.\nTalk through issues and ways of coping.\nShare feelings\, needs and\nLearn about community resources\n\nVisit alz.org/Illinois to learn more about caregiver programs and resources.
URL:https://www.walnutpubliclibrary.org/event/dementia-caregiver-support-group-5/
LOCATION:Walnut Public Library\, 101 Heaton Street\, Walnut\, 61376\, United States
CATEGORIES:Event
ATTACH;FMTTYPE=image/png:https://www.walnutpubliclibrary.org/wp-content/uploads/2025/07/dementia-care-givers-1.png
END:VEVENT
BEGIN:VEVENT
DTSTART;TZID=UTC:20250630T100000
DTEND;TZID=UTC:20250630T160000
DTSTAMP:20260420T202206
CREATED:20250525T013526Z
LAST-MODIFIED:20250525T013526Z
UID:72461-1751277600-1751299200@www.walnutpubliclibrary.org
SUMMARY:June Job Search Assistance
DESCRIPTION:June Employment Assistance Available \n6-2\, 6-4\, 6-9\, 6-11\, 6-16\, 6-18\, 6-23\, 6-25 & 6-30 \n10 AM – 4 PM \nJob Search Assistance \n\nResume Writing\nJob Searching\nInventorying your skills\nCompleting job applications\n\nfor more information contact: marcia_obenhaus@best-inc.com \n(815) 379-2159 \nThis service is provided at no charge through a grant obtained by Business Employment Skills Team (BEST\, Inc.) \n 
URL:https://www.walnutpubliclibrary.org/event/june-job-search-assistance-9/
LOCATION:Walnut Public Library\, 101 Heaton Street\, Walnut\, 61376\, United States
CATEGORIES:Program
ATTACH;FMTTYPE=image/png:https://www.walnutpubliclibrary.org/wp-content/uploads/2025/05/Hello-Summer-Flyer.png
END:VEVENT
BEGIN:VEVENT
DTSTART;TZID=UTC:20250626T190000
DTEND;TZID=UTC:20250626T200000
DTSTAMP:20260420T202206
CREATED:20250525T012441Z
LAST-MODIFIED:20250525T012441Z
UID:72441-1750964400-1750968000@www.walnutpubliclibrary.org
SUMMARY:June Adult Book Club
DESCRIPTION:All that bestselling author Eleanor Dash wants is to get through her book tour in Italy and kill off her main character\, Connor Smith\, in the next in her Vacation Mysteries series-is that too much to ask? \nClearly it is\, because when an attempt is made to kill the real Connor-the handsome but infuriating con man she got mixed up with ten years ago and now can’t get out of her life-Eleanor’s enlisted to help solve the case. \nContending with literary competitors\, rabid fans\, a stalker-and even her ex\, Oliver\, who turns up unexpectedly-theories are bandied about\, and rivalries\, rifts\, and broken hearts are revealed. \nBut who’s really trying to get away with murder? \nEvery Time I Go on Vacation\, Someone Dies is an irresistible and hilarious series debut from Catherine Mack\, introducing bestselling fictional author Eleanor Dash on her Italian book tour where life starts to imitate the world in her books when she’s caught up in a real-life murder mystery.
URL:https://www.walnutpubliclibrary.org/event/june-adult-book-club/
LOCATION:Walnut Public Library\, 101 Heaton Street\, Walnut\, 61376\, United States
CATEGORIES:Book Club
ATTACH;FMTTYPE=image/png:https://www.walnutpubliclibrary.org/wp-content/uploads/2025/05/june-book-club-1.png
END:VEVENT
BEGIN:VEVENT
DTSTART;TZID=UTC:20250625T143000
DTEND;TZID=UTC:20250625T153000
DTSTAMP:20260420T202206
CREATED:20250429T172331Z
LAST-MODIFIED:20250429T172331Z
UID:72362-1750861800-1750865400@www.walnutpubliclibrary.org
SUMMARY:Dancing Feet-Pre-K & Kindergarten Summer Session 3
DESCRIPTION:Let’s Keep Moving!\nMake an Instrument!\nMust register to attend!\nRegister here!
URL:https://www.walnutpubliclibrary.org/event/dancing-feet-pre-k-kindergarten-summer-session-3/
LOCATION:Walnut Public Library\, 101 Heaton Street\, Walnut\, 61376\, United States
CATEGORIES:Child Program
ATTACH;FMTTYPE=image/jpeg:https://www.walnutpubliclibrary.org/wp-content/uploads/2025/04/summer.reading.programs.jpg
END:VEVENT
BEGIN:VEVENT
DTSTART;TZID=UTC:20250625T130000
DTEND;TZID=UTC:20250625T140000
DTSTAMP:20260420T202206
CREATED:20250429T174402Z
LAST-MODIFIED:20250429T174402Z
UID:72374-1750856400-1750860000@www.walnutpubliclibrary.org
SUMMARY:If You Plant a Seed-1st-5th Grades Summer Session 3
DESCRIPTION:Gardening!\nPressed flower bookmarks!\nMust register to attend!\nRegister here!
URL:https://www.walnutpubliclibrary.org/event/if-you-plant-a-seed-1st-5th-grades-summer-session-3/
LOCATION:Walnut Public Library\, 101 Heaton Street\, Walnut\, 61376\, United States
CATEGORIES:Child Program
ATTACH;FMTTYPE=image/jpeg:https://www.walnutpubliclibrary.org/wp-content/uploads/2025/04/summer.reading.programs.jpg
END:VEVENT
BEGIN:VEVENT
DTSTART;TZID=UTC:20250625T100000
DTEND;TZID=UTC:20250625T160000
DTSTAMP:20260420T202206
CREATED:20250525T013445Z
LAST-MODIFIED:20250525T013445Z
UID:72459-1750845600-1750867200@www.walnutpubliclibrary.org
SUMMARY:June Job Search Assistance
DESCRIPTION:June Employment Assistance Available \n6-2\, 6-4\, 6-9\, 6-11\, 6-16\, 6-18\, 6-23\, 6-25 & 6-30 \n10 AM – 4 PM \nJob Search Assistance \n\nResume Writing\nJob Searching\nInventorying your skills\nCompleting job applications\n\nfor more information contact: marcia_obenhaus@best-inc.com \n(815) 379-2159 \nThis service is provided at no charge through a grant obtained by Business Employment Skills Team (BEST\, Inc.) \n 
URL:https://www.walnutpubliclibrary.org/event/june-job-search-assistance-8/
LOCATION:Walnut Public Library\, 101 Heaton Street\, Walnut\, 61376\, United States
CATEGORIES:Program
ATTACH;FMTTYPE=image/png:https://www.walnutpubliclibrary.org/wp-content/uploads/2025/05/Hello-Summer-Flyer.png
END:VEVENT
BEGIN:VEVENT
DTSTART;TZID=UTC:20250624T150000
DTEND;TZID=UTC:20250624T160000
DTSTAMP:20260420T202206
CREATED:20250525T011119Z
LAST-MODIFIED:20250525T011119Z
UID:72430-1750777200-1750780800@www.walnutpubliclibrary.org
SUMMARY:4-H Summer Session-Bird Restaurant
DESCRIPTION:Registration Required. Register here
URL:https://www.walnutpubliclibrary.org/event/4-h-summer-session-bird-restaurant/
LOCATION:Walnut Public Library\, 101 Heaton Street\, Walnut\, 61376\, United States
CATEGORIES:Child Program
ATTACH;FMTTYPE=image/png:https://www.walnutpubliclibrary.org/wp-content/uploads/2025/05/4-H-Nature-Summer-Sessions.png
END:VEVENT
BEGIN:VEVENT
DTSTART;TZID=UTC:20250623T130000
DTEND;TZID=UTC:20250623T143000
DTSTAMP:20260420T202206
CREATED:20250429T175942Z
LAST-MODIFIED:20250429T193116Z
UID:72390-1750683600-1750689000@www.walnutpubliclibrary.org
SUMMARY:Reading Recipes & Making Spaghetti/Lunch @ The Rock!-JH & HS Summer Session 3
DESCRIPTION:Meet at The Rock!\nMust Register to attend!\nRegister here!
URL:https://www.walnutpubliclibrary.org/event/reading-recipes-making-spaghetti-lunch-the-rock-jh-hs-summer-program-session-3/
LOCATION:The Rock
CATEGORIES:High School Event,Junior High Event
ATTACH;FMTTYPE=image/jpeg:https://www.walnutpubliclibrary.org/wp-content/uploads/2025/04/summer.reading.programs.jpg
END:VEVENT
BEGIN:VEVENT
DTSTART;TZID=UTC:20250623T100000
DTEND;TZID=UTC:20250623T160000
DTSTAMP:20260420T202206
CREATED:20250525T013356Z
LAST-MODIFIED:20250525T013356Z
UID:72457-1750672800-1750694400@www.walnutpubliclibrary.org
SUMMARY:June Job Search Assistance
DESCRIPTION:June Employment Assistance Available \n6-2\, 6-4\, 6-9\, 6-11\, 6-16\, 6-18\, 6-23\, 6-25 & 6-30 \n10 AM – 4 PM \nJob Search Assistance \n\nResume Writing\nJob Searching\nInventorying your skills\nCompleting job applications\n\nfor more information contact: marcia_obenhaus@best-inc.com \n(815) 379-2159 \nThis service is provided at no charge through a grant obtained by Business Employment Skills Team (BEST\, Inc.) \n 
URL:https://www.walnutpubliclibrary.org/event/june-job-search-assistance-7/
LOCATION:Walnut Public Library\, 101 Heaton Street\, Walnut\, 61376\, United States
CATEGORIES:Program
ATTACH;FMTTYPE=image/png:https://www.walnutpubliclibrary.org/wp-content/uploads/2025/05/Hello-Summer-Flyer.png
END:VEVENT
BEGIN:VEVENT
DTSTART;TZID=UTC:20250621T090000
DTEND;TZID=UTC:20250621T120000
DTSTAMP:20260420T202206
CREATED:20250525T012032Z
LAST-MODIFIED:20250525T012032Z
UID:72439-1750496400-1750507200@www.walnutpubliclibrary.org
SUMMARY:End-of-Life Program
DESCRIPTION:End-of-Life Program \nWalnut Public Library- Saturday\, June 21st  9-12 \nRegister here ! \nEnd-of-life planning involves organizing your affairs and documenting your wishes regarding healthcare and financial matters\, ensuring your preferences are respected and your loved ones are cared for after your death. It’s a proactive approach to managing your life’s end. This includes creating legal documents\, discussing your wishes with loved ones and healthcare providers\, as well as making arrangements for your funeral and burial. By taking the time to create an end-of-life plan\, you can ensure your wishes are respected\, your loved ones are\nsupported\, and your final chapter is as peaceful and dignified as possible. \nPresenters:\nJacob J. Frost- Attorney & Counselor at Law\nKris Reinbeck\, RN- Director of Patient Services at IHCC\, Homecare & Hospice\nBeth Baker- Proprietress of Grant-Johnson Funeral Homes Tyler Hansen- Financial Advisor/Proprietor of Hansen Agency\, Country Financial\nPam Turner- President at Community State Bank\, Walnut Branch  \nPlease join us at the Walnut Public Library for this informative program featuring presenters from several essential end-of-life organizations Each of these presenters will speak for approximately 20 minutes\, allowing extra time to answer any questions you may have and handing out additional information.
URL:https://www.walnutpubliclibrary.org/event/end-of-life-program-2/
LOCATION:Walnut Public Library\, 101 Heaton Street\, Walnut\, 61376\, United States
CATEGORIES:Program
ATTACH;FMTTYPE=image/jpeg:https://www.walnutpubliclibrary.org/wp-content/uploads/2025/04/end.of_.life_.program.jpg
END:VEVENT
BEGIN:VEVENT
DTSTART;TZID=UTC:20250618T143000
DTEND;TZID=UTC:20250618T153000
DTSTAMP:20260420T202206
CREATED:20250429T172215Z
LAST-MODIFIED:20250429T172215Z
UID:72360-1750257000-1750260600@www.walnutpubliclibrary.org
SUMMARY:STOMP-Pre-K & Kindergarten Summer Session 2
DESCRIPTION:Let’s Keep Moving!\nFOOTPRINT ART!\nMust register to attend!\nRegister here!
URL:https://www.walnutpubliclibrary.org/event/stomp-pre-k-kindergarten-summer-session-2/
LOCATION:Walnut Public Library\, 101 Heaton Street\, Walnut\, 61376\, United States
CATEGORIES:Child Program
ATTACH;FMTTYPE=image/jpeg:https://www.walnutpubliclibrary.org/wp-content/uploads/2025/04/summer.reading.programs.jpg
END:VEVENT
BEGIN:VEVENT
DTSTART;TZID=UTC:20250618T130000
DTEND;TZID=UTC:20250618T140000
DTSTAMP:20260420T202206
CREATED:20250429T174214Z
LAST-MODIFIED:20250429T174240Z
UID:72371-1750251600-1750255200@www.walnutpubliclibrary.org
SUMMARY:My Garden-1st-5th Grades Summer Session 2
DESCRIPTION:Gardening!\nPlant flowers around the library!\nMust register to attend!\nRegister here!
URL:https://www.walnutpubliclibrary.org/event/my-garden-1st-5th-grades-summer-session-1/
LOCATION:Walnut Public Library\, 101 Heaton Street\, Walnut\, 61376\, United States
CATEGORIES:Child Program
ATTACH;FMTTYPE=image/jpeg:https://www.walnutpubliclibrary.org/wp-content/uploads/2025/04/summer.reading.programs.jpg
END:VEVENT
BEGIN:VEVENT
DTSTART;TZID=UTC:20250618T100000
DTEND;TZID=UTC:20250618T160000
DTSTAMP:20260420T202206
CREATED:20250525T013309Z
LAST-MODIFIED:20250525T013309Z
UID:72455-1750240800-1750262400@www.walnutpubliclibrary.org
SUMMARY:June Job Search Assistance
DESCRIPTION:June Employment Assistance Available \n6-2\, 6-4\, 6-9\, 6-11\, 6-16\, 6-18\, 6-23\, 6-25 & 6-30 \n10 AM – 4 PM \nJob Search Assistance \n\nResume Writing\nJob Searching\nInventorying your skills\nCompleting job applications\n\nfor more information contact: marcia_obenhaus@best-inc.com \n(815) 379-2159 \nThis service is provided at no charge through a grant obtained by Business Employment Skills Team (BEST\, Inc.) \n 
URL:https://www.walnutpubliclibrary.org/event/june-job-search-assistance-6/
LOCATION:Walnut Public Library\, 101 Heaton Street\, Walnut\, 61376\, United States
CATEGORIES:Program
ATTACH;FMTTYPE=image/png:https://www.walnutpubliclibrary.org/wp-content/uploads/2025/05/Hello-Summer-Flyer.png
END:VEVENT
BEGIN:VEVENT
DTSTART;TZID=UTC:20250617T150000
DTEND;TZID=UTC:20250617T160000
DTSTAMP:20260420T202206
CREATED:20250525T010753Z
LAST-MODIFIED:20250525T010923Z
UID:72426-1750172400-1750176000@www.walnutpubliclibrary.org
SUMMARY:4-H Summer Sessions-Leaf Printing
DESCRIPTION:Registration required \nRegister here
URL:https://www.walnutpubliclibrary.org/event/4-h-summer-sessions-leaf-printing/
LOCATION:Walnut Public Library\, 101 Heaton Street\, Walnut\, 61376\, United States
CATEGORIES:Child Program
ATTACH;FMTTYPE=image/png:https://www.walnutpubliclibrary.org/wp-content/uploads/2025/05/4-H-Nature-Summer-Sessions.png
END:VEVENT
BEGIN:VEVENT
DTSTART;TZID=UTC:20250616T130000
DTEND;TZID=UTC:20250616T143000
DTSTAMP:20260420T202206
CREATED:20250429T175511Z
LAST-MODIFIED:20250429T193144Z
UID:72383-1750078800-1750084200@www.walnutpubliclibrary.org
SUMMARY:Kitchen Safety & Making Pancakes/Breakfast @ The Rock!-JH & HS Summer Session 2
DESCRIPTION:Meet at The Rock!\nMust Register to attend!\nRegister here!
URL:https://www.walnutpubliclibrary.org/event/kitchen-safety-making-pancakes-breakfast-the-rock-jh-hs-summer-program-session-2/
LOCATION:The Rock
CATEGORIES:High School Event,Junior High Event
ATTACH;FMTTYPE=image/jpeg:https://www.walnutpubliclibrary.org/wp-content/uploads/2025/04/summer.reading.programs.jpg
END:VEVENT
BEGIN:VEVENT
DTSTART;TZID=UTC:20250616T100000
DTEND;TZID=UTC:20250616T160000
DTSTAMP:20260420T202206
CREATED:20250525T013215Z
LAST-MODIFIED:20250525T013215Z
UID:72453-1750068000-1750089600@www.walnutpubliclibrary.org
SUMMARY:June Job Search Assistance
DESCRIPTION:June Employment Assistance Available \n6-2\, 6-4\, 6-9\, 6-11\, 6-16\, 6-18\, 6-23\, 6-25 & 6-30 \n10 AM – 4 PM \nJob Search Assistance \n\nResume Writing\nJob Searching\nInventorying your skills\nCompleting job applications\n\nfor more information contact: marcia_obenhaus@best-inc.com \n(815) 379-2159 \nThis service is provided at no charge through a grant obtained by Business Employment Skills Team (BEST\, Inc.) \n 
URL:https://www.walnutpubliclibrary.org/event/june-job-search-assistance-5/
LOCATION:Walnut Public Library\, 101 Heaton Street\, Walnut\, 61376\, United States
CATEGORIES:Program
ATTACH;FMTTYPE=image/png:https://www.walnutpubliclibrary.org/wp-content/uploads/2025/05/Hello-Summer-Flyer.png
END:VEVENT
BEGIN:VEVENT
DTSTART;TZID=UTC:20250611T143000
DTEND;TZID=UTC:20250611T153000
DTSTAMP:20260420T202206
CREATED:20250429T172042Z
LAST-MODIFIED:20250429T172042Z
UID:72357-1749652200-1749655800@www.walnutpubliclibrary.org
SUMMARY:From Head to Toe-Pre-K & Kindergarten Summer Session 1
DESCRIPTION:Let’s Keep Moving!\nAnimal movements & Crafts\nMust register to attend!\nRegister here!
URL:https://www.walnutpubliclibrary.org/event/from-head-to-toe-pre-k-kindergarten-summer-session-1/
LOCATION:Walnut Public Library\, 101 Heaton Street\, Walnut\, 61376\, United States
CATEGORIES:Child Program
ATTACH;FMTTYPE=image/jpeg:https://www.walnutpubliclibrary.org/wp-content/uploads/2025/04/summer.reading.programs.jpg
END:VEVENT
BEGIN:VEVENT
DTSTART;TZID=UTC:20250611T130000
DTEND;TZID=UTC:20250611T140000
DTSTAMP:20260420T202206
CREATED:20250429T174014Z
LAST-MODIFIED:20250429T174014Z
UID:72369-1749646800-1749650400@www.walnutpubliclibrary.org
SUMMARY:How a Seed Grows-1st-5th Grades Summer Session 1
DESCRIPTION:Gardening!\nPlant STEM Activities!\nMust register to attend!\nRegister here!
URL:https://www.walnutpubliclibrary.org/event/how-a-seed-grows-1st-5th-grades-summer-session-1/
LOCATION:Walnut Public Library\, 101 Heaton Street\, Walnut\, 61376\, United States
CATEGORIES:Child Program
ATTACH;FMTTYPE=image/jpeg:https://www.walnutpubliclibrary.org/wp-content/uploads/2025/04/summer.reading.programs.jpg
END:VEVENT
BEGIN:VEVENT
DTSTART;TZID=UTC:20250611T100000
DTEND;TZID=UTC:20250611T160000
DTSTAMP:20260420T202206
CREATED:20250525T013130Z
LAST-MODIFIED:20250525T013130Z
UID:72451-1749636000-1749657600@www.walnutpubliclibrary.org
SUMMARY:June Job Search Assistance
DESCRIPTION:June Employment Assistance Available \n6-2\, 6-4\, 6-9\, 6-11\, 6-16\, 6-18\, 6-23\, 6-25 & 6-30 \n10 AM – 4 PM \nJob Search Assistance \n\nResume Writing\nJob Searching\nInventorying your skills\nCompleting job applications\n\nfor more information contact: marcia_obenhaus@best-inc.com \n(815) 379-2159 \nThis service is provided at no charge through a grant obtained by Business Employment Skills Team (BEST\, Inc.) \n 
URL:https://www.walnutpubliclibrary.org/event/june-job-search-assistance-4/
LOCATION:Walnut Public Library\, 101 Heaton Street\, Walnut\, 61376\, United States
CATEGORIES:Program
ATTACH;FMTTYPE=image/png:https://www.walnutpubliclibrary.org/wp-content/uploads/2025/05/Hello-Summer-Flyer.png
END:VEVENT
BEGIN:VEVENT
DTSTART;TZID=UTC:20250610T150000
DTEND;TZID=UTC:20250610T160000
DTSTAMP:20260420T202206
CREATED:20250525T010623Z
LAST-MODIFIED:20250525T011216Z
UID:72423-1749567600-1749571200@www.walnutpubliclibrary.org
SUMMARY:4-H Summer Sessions-Nature's Mosaic
DESCRIPTION:Registration Required. Register here
URL:https://www.walnutpubliclibrary.org/event/4-h-summer-sessions-natures-mosaic/
LOCATION:Walnut Public Library\, 101 Heaton Street\, Walnut\, 61376\, United States
CATEGORIES:Child Program
ATTACH;FMTTYPE=image/png:https://www.walnutpubliclibrary.org/wp-content/uploads/2025/05/4-H-Nature-Summer-Sessions.png
END:VEVENT
BEGIN:VEVENT
DTSTART;TZID=UTC:20250609T130000
DTEND;TZID=UTC:20250609T143000
DTSTAMP:20260420T202206
CREATED:20250429T175218Z
LAST-MODIFIED:20250429T193210Z
UID:72380-1749474000-1749479400@www.walnutpubliclibrary.org
SUMMARY:Safe at Home Program @ the Library!-JH & HS Summer Session 1
DESCRIPTION:Meet at the Library!\nMust register to attend!\nRegister here!
URL:https://www.walnutpubliclibrary.org/event/safe-at-home-program-the-library-jh-js-summer-program-session-1/
LOCATION:Walnut Public Library\, 101 Heaton Street\, Walnut\, 61376\, United States
CATEGORIES:High School Event,Junior High Event
ATTACH;FMTTYPE=image/jpeg:https://www.walnutpubliclibrary.org/wp-content/uploads/2025/04/summer.reading.programs.jpg
END:VEVENT
END:VCALENDAR